BEGIN:VCALENDAR
VERSION:2.0
PRODID:-//Slovensko-nemecký kultúrny klub v Mníchove - ECPv5.3.1.1//NONSGML v1.0//EN
CALSCALE:GREGORIAN
METHOD:PUBLISH
X-WR-CALNAME:Slovensko-nemecký kultúrny klub v Mníchove
X-ORIGINAL-URL:https://snkk-mnichov.eu
X-WR-CALDESC:Udalosti pre Slovensko-nemecký kultúrny klub v Mníchove
BEGIN:VTIMEZONE
TZID:UTC
BEGIN:STANDARD
TZOFFSETFROM:+0000
TZOFFSETTO:+0000
TZNAME:UTC
DTSTART:20250101T000000
END:STANDARD
END:VTIMEZONE
BEGIN:VEVENT
DTSTART;TZID=UTC:20250405T093000
DTEND;TZID=UTC:20250405T110000
DTSTAMP:20260425T032001
CREATED:20260121T191728Z
LAST-MODIFIED:20260121T191733Z
UID:3548-1743845400-1743850800@snkk-mnichov.eu
SUMMARY:Tínedžerský program: 3D tlač
DESCRIPTION:
URL:https://snkk-mnichov.eu/event/tinedzersky-program-3d-tlac/
END:VEVENT
END:VCALENDAR