BEGIN:VCALENDAR
VERSION:2.0
PRODID:-//Slovensko-nemecký kultúrny klub v Mníchove - ECPv5.3.1.1//NONSGML v1.0//EN
CALSCALE:GREGORIAN
METHOD:PUBLISH
X-WR-CALNAME:Slovensko-nemecký kultúrny klub v Mníchove
X-ORIGINAL-URL:https://snkk-mnichov.eu
X-WR-CALDESC:Udalosti pre Slovensko-nemecký kultúrny klub v Mníchove
BEGIN:VTIMEZONE
TZID:UTC
BEGIN:STANDARD
TZOFFSETFROM:+0000
TZOFFSETTO:+0000
TZNAME:UTC
DTSTART:20240101T000000
END:STANDARD
END:VTIMEZONE
BEGIN:VEVENT
DTSTART;TZID=UTC:20241207T095000
DTEND;TZID=UTC:20241207T123000
DTSTAMP:20260425T032317
CREATED:20241113T211003Z
LAST-MODIFIED:20241113T211003Z
UID:3388-1733565000-1733574600@snkk-mnichov.eu
SUMMARY:Povedz mi\, ako sa to robí... Ale po slovensky III.
DESCRIPTION:Milí tínedžeri\, \ntento rok nás čaká zaujímavý program v slovenčine\, ale nebude to žiadna klasická škola! Stretnete sa s desiatimi dospelákmi\, ktorí majú zaujímavé povolanie\, všeličo vám o ňom povedia\, niektorí z nich vám ho aj prakticky predvedú. \nAk máš 13 až 18 rokov a záujem stretnúť nových slovenských kamarátov a kamarátky a popri tom sa niečo nové naučiť\, pridaj sa k nám! \nNa prvom stretnutí sme debatovali s pani Zuzanou Kronerovou\, ktorá nám prezradila zaujímavosti o hereckom povolaní.\nDruhé stretnutie sa konalo v Alte Pinakothek\, previedol nás ňou akademický maliar Martin Oscitý. \nTretie stretnutie bude venované právu. Viete\, ako vzniká kúpna zmluva? Alebo čo všetko spadá pod právny systém štátu? Príďte na stretnutie s právničkou Mgr. Danielou Eggerovou a dozviete sa viac. \nKedy: Sobota 7.12.2024\, 9:50 – 12:30\nKde: Slovenská katolícka farnosť (Misia)\, Landsberger Str. 39\, 80339 Mníchov\, 3. poschodie \nNa akciu je potrebná registrácia na emailovej adrese: slovencina@snkk-mnichov.eu. V prípade otázok nás kontaktujte mailom alebo správou tu na Facebooku. \nPodujatie sa koná s finančnou podporou Úradu pre Slovákov žijúcich v zahraničí.
URL:https://snkk-mnichov.eu/event/povedz-mi-ako-sa-to-robi-ale-po-slovensky-iii/
END:VEVENT
END:VCALENDAR