BEGIN:VCALENDAR
VERSION:2.0
PRODID:-//Slovensko-nemecký kultúrny klub v Mníchove - ECPv5.3.1.1//NONSGML v1.0//EN
CALSCALE:GREGORIAN
METHOD:PUBLISH
X-WR-CALNAME:Slovensko-nemecký kultúrny klub v Mníchove
X-ORIGINAL-URL:https://snkk-mnichov.eu
X-WR-CALDESC:Udalosti pre Slovensko-nemecký kultúrny klub v Mníchove
BEGIN:VTIMEZONE
TZID:UTC
BEGIN:STANDARD
TZOFFSETFROM:+0000
TZOFFSETTO:+0000
TZNAME:UTC
DTSTART:20240101T000000
END:STANDARD
END:VTIMEZONE
BEGIN:VEVENT
DTSTART;TZID=UTC:20241206T170000
DTEND;TZID=UTC:20241206T190000
DTSTAMP:20260425T032123
CREATED:20241027T232440Z
LAST-MODIFIED:20241027T232440Z
UID:3175-1733504400-1733511600@snkk-mnichov.eu
SUMMARY:Mikuláš v Slovenskej škole
DESCRIPTION:Do Slovenskej školy pri SNKK príde Mikuláš! 🎅 \nKedy? – No predsa 6. decembra 2024\nO koľkej? – Medzi 17:00-19:00\nKam? – Kulturzentrum Gorod\, Arnulfstr. 197\, 80634 Mníchov. Stretneme sa na treťom poschodí. \nAk nie ste žiakmi školy\, prihláste sa na: slovencina@snkk-mnichov.eu. \nPodujatie sa koná s finančnou podporou Úradu pre Slovákov žijúcich v zahraničí.
URL:https://snkk-mnichov.eu/event/mikulas-v-slovenskej-skole/
END:VEVENT
END:VCALENDAR