BEGIN:VCALENDAR
VERSION:2.0
PRODID:-//Slovensko-nemecký kultúrny klub v Mníchove - ECPv5.3.1.1//NONSGML v1.0//EN
CALSCALE:GREGORIAN
METHOD:PUBLISH
X-WR-CALNAME:Slovensko-nemecký kultúrny klub v Mníchove
X-ORIGINAL-URL:https://snkk-mnichov.eu
X-WR-CALDESC:Udalosti pre Slovensko-nemecký kultúrny klub v Mníchove
BEGIN:VTIMEZONE
TZID:UTC
BEGIN:STANDARD
TZOFFSETFROM:+0000
TZOFFSETTO:+0000
TZNAME:UTC
DTSTART:20250101T000000
END:STANDARD
END:VTIMEZONE
BEGIN:VEVENT
DTSTART;VALUE=DATE:20250919
DTEND;VALUE=DATE:20260101
DTSTAMP:20260425T020116
CREATED:20250407T075208Z
LAST-MODIFIED:20260224T165447Z
UID:3398-1758240000-1767225599@snkk-mnichov.eu
SUMMARY:Vyučovanie slovenčiny v školskom roku 2025/2026
DESCRIPTION:Konsularischer muttersprachlicher Unterricht – Slowakisch\nMilí rodičia\, \nmožno ste od nemeckej školy\, kde je zapísané Vaše dieťa\, obdržali informáciu o konzulárnom vyučovaní slovenského jazyka – konsularischer muttersprachlicher Unterricht. \nVyučovanie slovenského jazyka v Mníchove poskytuje naša Slovenská škola pri Slovensko-nemeckom kultúrnom klube. \nAk sa prihlásite prostredníctvom formuláru\, ktorý ste dostali od nemeckej školy a zasiela sa na Generálny konzulát Slovenskej republiky v Mníchove\, bude Vášmu dieťaťu vystavené aj oficiálne potvrdenie o absolvovaní vyučovania. To napríklad využijete v prípade\, že sa dieťa chystá pokračovať v štúdiu na Slovensku. \nKeď rozmýšľate o prihlásení Vášho dieťaťa do našej školy\, radi Vás privítame na bezplatnej zoznamovacej hodine. Aktuálne máme otvorených šesť skupín a po zoznamovacej hodine budeme mať možnosť zaradiť Vaše dieťa do najvhodnejšej skupiny podľa jeho veku a úrovne slovenského jazyka. Nástup do našej školy je možný aj počas školského roka. \nNa zoznamovaciu hodinu sa môžete prihlásiť na emailovej adrese slovencina@snkk-mnichov.eu\, kde radi zodpovieme ďalšie otázky. \nĎakujeme veľmi pekne za spoluprácu Generálnemu kozulátu Slovenskej republiky v Mníchove. \n  \nČasto kladené otázky: \nNaša škola nás o ničom takom neinformovala\, ako postupovať?  \nZo skúseností viacerých rodičov z našej školy a klubu vieme\, že nie všetky nemecké školy o konzulárnom vyučovaní aktívne informujú. V tom prípade Vám odporúčame osloviť priamo Vašu školu a požiadať o zaslanie informácií a formulára. \n\nSlovenskú školu pri Slovenskom-nemeckom klube už navštevujeme\, mení sa pre nás niečo? \nVyučovanie slovenčiny u nás pokračuje ako doteraz. Ak máte záujem aj o potvrdenie konzulátu\, vyplňte okrem prihlášky do našej školy aj formulár\, ktorý obdržíte od sekretariátu Vašej nemeckej školy. Ak dôjde k zvýšenému záujmu\, žiaci\, ktorí naše vyučovanie už navštevujú\, budú mať prednosť pred novoprihlásenými. V každom prípade Vás ale prosíme\, aby ste prihlásenie neodkladali. \n\nKto vyučovanie slovenčiny zabezpečuje a kde a kedy sa koná? \nVyučovanie slovenského jazyka v Mníchove poskytuje ako doteraz naša Slovenská škola pri Slovensko-nemeckom kultúrnom klube. Počas bavorského školského roka sa stretávame vždy v piatok medzi 17:00-19:00 v Kultúrnom centre GOROD (Kulturzentrum Gorod\, Arnulfstrasse 197\, 80634 Mníchov). Vyučovanie pre skupinu tínedžerov sa koná približne raz do mesiaca v sobotu. \nVyučovanie je doplnkovou aktivitou popri bežnej škôlke či škole. Pravidelne pre deti organizujeme aj doplnkové akcie ako výlety\, tvorivé dielne\, mikulášsku aj vianočnú besiedku\, fašiangový karneval\, veľkonočné posedenie\, oslavy MDD a iné. Aktuálne máme otvorených šesť tried. \nGenerálny konzulát SR v Mníchove samotné vyučovanie neposkytuje\, konzulát je garantom a vďaka prihláseniu prostredníctvom konzulátu získate okrem nášho osvedčenia aj oficiálne potvrdenie\, ktoré viete predložiť na Slovensku. \nViac informácií nájdete na našej stránke: \nViac informácií o vyučovaní slovenčiny \n  \nAko prebieha prihlásenie na konzulárne vyučovanie a do Vašej školy? \nProsíme o vyplnenie prihlášky na konzulárne vyučovanie\, ktorý ste dostali v nemeckej škole. Okrem toho súbežne prosíme aj o vyplnenie našej prihlášky\, aby sme o Vás čím skôr vedeli. Nájdete ju tu: \nPrihláška \n  \nMám dieťa v škôlkarskom veku\, je to pre mňa relevantné? \nKonzulárne vyučovanie sa týka len školákov. Škôlkarov radi privítame v našej škôlkarskej skupine\, rovnako ponúkame možnosť zoznamovacej hodiny. \n\nAko prebieha zoznamovacia hodina? \nNa bezplatnú zoznamovaciu hodinu sa prihlásite emailom na slovencina@snkk-mnichov.eu. Napíšte nám prosím základné údaje o dieťati: meno\, vek\, ročník v nemeckej škole\, približne úroveň slovenčiny. Následne nadviažete kontakt s vyučujúcou a dieťa sa zúčastní vyučovania. Ak sa rozhodnete hneď pokračovať\, vyplníte prihlášku. Školné sa neplatí v plnej výške\, len za mesiace\, ktoré stihnete v prebiehajúcom školskom roku. Zoznamovaciu hodinu môžete absolvovať už aj teraz\, aj keď chcete začať až v septembri v novom školskom roku. Nám to uľahčí správne zaradenie Vášho dieťaťa a Vy budete vedieť\, ako vyučovanie prebieha a spoznáte náš kolektív. \n\nMám ďalšie otázky. \nRadi ich zodpovieme na emailovej adrese slovencina@snkk-mnichov.eu. \n  \nTešíme na na Vás! :)
URL:https://snkk-mnichov.eu/event/konzularne-vyucovanie-slovenciny-mnichov/
END:VEVENT
END:VCALENDAR