BEGIN:VCALENDAR
VERSION:2.0
PRODID:-//Slovensko-nemecký kultúrny klub v Mníchove - ECPv5.3.1.1//NONSGML v1.0//EN
CALSCALE:GREGORIAN
METHOD:PUBLISH
X-WR-CALNAME:Slovensko-nemecký kultúrny klub v Mníchove
X-ORIGINAL-URL:https://snkk-mnichov.eu
X-WR-CALDESC:Udalosti pre Slovensko-nemecký kultúrny klub v Mníchove
BEGIN:VTIMEZONE
TZID:UTC
BEGIN:STANDARD
TZOFFSETFROM:+0000
TZOFFSETTO:+0000
TZNAME:UTC
DTSTART:20250101T000000
END:STANDARD
END:VTIMEZONE
BEGIN:VEVENT
DTSTART;TZID=UTC:20251004T093000
DTEND;TZID=UTC:20251004T110000
DTSTAMP:20260425T032112
CREATED:20260121T191210Z
LAST-MODIFIED:20260121T191605Z
UID:3544-1759570200-1759575600@snkk-mnichov.eu
SUMMARY:Tínedžerský program: Beseda s Evou Umlauf
DESCRIPTION:
URL:https://snkk-mnichov.eu/event/beseda-s-evou-umlauf/
END:VEVENT
END:VCALENDAR